BEGIN:VCALENDAR
VERSION:2.0
PRODID:-//Sonnenhangschule - ECPv6.15.20//NONSGML v1.0//EN
CALSCALE:GREGORIAN
METHOD:PUBLISH
X-ORIGINAL-URL:https://sonnenhangschule.de
X-WR-CALDESC:Veranstaltungen für Sonnenhangschule
REFRESH-INTERVAL;VALUE=DURATION:PT1H
X-Robots-Tag:noindex
X-PUBLISHED-TTL:PT1H
BEGIN:VTIMEZONE
TZID:Europe/Berlin
BEGIN:DAYLIGHT
TZOFFSETFROM:+0100
TZOFFSETTO:+0200
TZNAME:CEST
DTSTART:20240331T010000
END:DAYLIGHT
BEGIN:STANDARD
TZOFFSETFROM:+0200
TZOFFSETTO:+0100
TZNAME:CET
DTSTART:20241027T010000
END:STANDARD
BEGIN:DAYLIGHT
TZOFFSETFROM:+0100
TZOFFSETTO:+0200
TZNAME:CEST
DTSTART:20250330T010000
END:DAYLIGHT
BEGIN:STANDARD
TZOFFSETFROM:+0200
TZOFFSETTO:+0100
TZNAME:CET
DTSTART:20251026T010000
END:STANDARD
BEGIN:DAYLIGHT
TZOFFSETFROM:+0100
TZOFFSETTO:+0200
TZNAME:CEST
DTSTART:20260329T010000
END:DAYLIGHT
BEGIN:STANDARD
TZOFFSETFROM:+0200
TZOFFSETTO:+0100
TZNAME:CET
DTSTART:20261025T010000
END:STANDARD
END:VTIMEZONE
BEGIN:VEVENT
DTSTART;VALUE=DATE:20251106
DTEND;VALUE=DATE:20251107
DTSTAMP:20260421T211134
CREATED:20250923T164844Z
LAST-MODIFIED:20250923T164844Z
UID:4327-1762387200-1762473599@sonnenhangschule.de
SUMMARY:Klasse 3b: Wald und Klima mit Daniel Rath
DESCRIPTION:
URL:https://sonnenhangschule.de/termin/klasse-3b-wald-und-klima-mit-daniel-rath/
END:VEVENT
BEGIN:VEVENT
DTSTART;VALUE=DATE:20251110
DTEND;VALUE=DATE:20251111
DTSTAMP:20260421T211134
CREATED:20250923T164940Z
LAST-MODIFIED:20250923T164940Z
UID:4329-1762732800-1762819199@sonnenhangschule.de
SUMMARY:Klassen 2: Klima und Energie mit Daniel Rath
DESCRIPTION:
URL:https://sonnenhangschule.de/termin/klassen-2-klima-und-energie-mit-daniel-rath/
END:VEVENT
BEGIN:VEVENT
DTSTART;VALUE=DATE:20251114
DTEND;VALUE=DATE:20251115
DTSTAMP:20260421T211134
CREATED:20250923T165023Z
LAST-MODIFIED:20250923T165023Z
UID:4331-1763078400-1763164799@sonnenhangschule.de
SUMMARY:Laternenumzug mit der Feuerwehr\, 17.00 Uhr
DESCRIPTION:
URL:https://sonnenhangschule.de/termin/laternenumzug-mit-der-feuerwehr-17-00-uhr/
END:VEVENT
BEGIN:VEVENT
DTSTART;VALUE=DATE:20251117
DTEND;VALUE=DATE:20251122
DTSTAMP:20260421T211134
CREATED:20250923T165126Z
LAST-MODIFIED:20250923T165126Z
UID:4333-1763337600-1763769599@sonnenhangschule.de
SUMMARY:Klassen 1-3 Elternsprechtage
DESCRIPTION:
URL:https://sonnenhangschule.de/termin/klassen-1-3-elternsprechtage-3/
END:VEVENT
BEGIN:VEVENT
DTSTART;VALUE=DATE:20251124
DTEND;VALUE=DATE:20251125
DTSTAMP:20260421T211134
CREATED:20250923T184702Z
LAST-MODIFIED:20250923T184702Z
UID:4417-1763942400-1764028799@sonnenhangschule.de
SUMMARY:Klasse 1b: Plätzchen backen
DESCRIPTION:
URL:https://sonnenhangschule.de/termin/klasse-1b-plaetzchen-backen/
END:VEVENT
BEGIN:VEVENT
DTSTART;VALUE=DATE:20251127
DTEND;VALUE=DATE:20251128
DTSTAMP:20260421T211134
CREATED:20250923T184854Z
LAST-MODIFIED:20250923T184854Z
UID:4419-1764201600-1764287999@sonnenhangschule.de
SUMMARY:Klasse 4a: Plätzchen backen
DESCRIPTION:
URL:https://sonnenhangschule.de/termin/klasse-4a-plaetzchen-backen-3/
END:VEVENT
BEGIN:VEVENT
DTSTART;VALUE=DATE:20251128
DTEND;VALUE=DATE:20251129
DTSTAMP:20260421T211134
CREATED:20251007T071807Z
LAST-MODIFIED:20251007T071807Z
UID:4436-1764288000-1764374399@sonnenhangschule.de
SUMMARY:OGS Adventsnachmittag 15.30-17.30 Uhr
DESCRIPTION:
URL:https://sonnenhangschule.de/termin/ogs-adventsnachmittag-15-30-17-30-uhr/
END:VEVENT
END:VCALENDAR