BEGIN:VCALENDAR
VERSION:2.0
PRODID:-//Sonnenhangschule - ECPv6.15.20//NONSGML v1.0//EN
CALSCALE:GREGORIAN
METHOD:PUBLISH
X-ORIGINAL-URL:https://sonnenhangschule.de
X-WR-CALDESC:Veranstaltungen für Sonnenhangschule
REFRESH-INTERVAL;VALUE=DURATION:PT1H
X-Robots-Tag:noindex
X-PUBLISHED-TTL:PT1H
BEGIN:VTIMEZONE
TZID:Europe/Berlin
BEGIN:DAYLIGHT
TZOFFSETFROM:+0100
TZOFFSETTO:+0200
TZNAME:CEST
DTSTART:20240331T010000
END:DAYLIGHT
BEGIN:STANDARD
TZOFFSETFROM:+0200
TZOFFSETTO:+0100
TZNAME:CET
DTSTART:20241027T010000
END:STANDARD
BEGIN:DAYLIGHT
TZOFFSETFROM:+0100
TZOFFSETTO:+0200
TZNAME:CEST
DTSTART:20250330T010000
END:DAYLIGHT
BEGIN:STANDARD
TZOFFSETFROM:+0200
TZOFFSETTO:+0100
TZNAME:CET
DTSTART:20251026T010000
END:STANDARD
BEGIN:DAYLIGHT
TZOFFSETFROM:+0100
TZOFFSETTO:+0200
TZNAME:CEST
DTSTART:20260329T010000
END:DAYLIGHT
BEGIN:STANDARD
TZOFFSETFROM:+0200
TZOFFSETTO:+0100
TZNAME:CET
DTSTART:20261025T010000
END:STANDARD
BEGIN:DAYLIGHT
TZOFFSETFROM:+0100
TZOFFSETTO:+0200
TZNAME:CEST
DTSTART:20270328T010000
END:DAYLIGHT
BEGIN:STANDARD
TZOFFSETFROM:+0200
TZOFFSETTO:+0100
TZNAME:CET
DTSTART:20271031T010000
END:STANDARD
END:VTIMEZONE
BEGIN:VEVENT
DTSTART;VALUE=DATE:20251202
DTEND;VALUE=DATE:20251203
DTSTAMP:20260421T193659
CREATED:20250923T165220Z
LAST-MODIFIED:20250923T165220Z
UID:4335-1764633600-1764719999@sonnenhangschule.de
SUMMARY:Klasse 3a: Weihnachtsfeier
DESCRIPTION:
URL:https://sonnenhangschule.de/termin/klasse-3a-weihnachtsfeier/
END:VEVENT
BEGIN:VEVENT
DTSTART;VALUE=DATE:20251204
DTEND;VALUE=DATE:20251205
DTSTAMP:20260421T193659
CREATED:20250923T165301Z
LAST-MODIFIED:20250923T165301Z
UID:4337-1764806400-1764892799@sonnenhangschule.de
SUMMARY:Klasse 2a: Plätzchen backen
DESCRIPTION:
URL:https://sonnenhangschule.de/termin/klasse-2a-plaetzchen-backen-2/
END:VEVENT
BEGIN:VEVENT
DTSTART;VALUE=DATE:20251204
DTEND;VALUE=DATE:20251205
DTSTAMP:20260421T193659
CREATED:20250923T165349Z
LAST-MODIFIED:20250923T165349Z
UID:4339-1764806400-1764892799@sonnenhangschule.de
SUMMARY:Klasse 2a: Weihnachtsfeier\, 16.15 Uhr
DESCRIPTION:
URL:https://sonnenhangschule.de/termin/klasse-2a-weihnachtsfeier-16-15-uhr/
END:VEVENT
BEGIN:VEVENT
DTSTART;VALUE=DATE:20251208
DTEND;VALUE=DATE:20251209
DTSTAMP:20260421T193659
CREATED:20250923T165435Z
LAST-MODIFIED:20250923T165435Z
UID:4341-1765152000-1765238399@sonnenhangschule.de
SUMMARY:Nikolaus an der Sonnenhangschule
DESCRIPTION:
URL:https://sonnenhangschule.de/termin/nikolaus-an-der-sonnenhangschule-2/
END:VEVENT
BEGIN:VEVENT
DTSTART;VALUE=DATE:20251208
DTEND;VALUE=DATE:20251213
DTSTAMP:20260421T193659
CREATED:20250923T165510Z
LAST-MODIFIED:20250923T165510Z
UID:4343-1765152000-1765583999@sonnenhangschule.de
SUMMARY:Klassen 4: Elternsprechtage
DESCRIPTION:
URL:https://sonnenhangschule.de/termin/klassen-4-elternsprechtage/
END:VEVENT
BEGIN:VEVENT
DTSTART;VALUE=DATE:20251208
DTEND;VALUE=DATE:20251209
DTSTAMP:20260421T193659
CREATED:20250923T165556Z
LAST-MODIFIED:20250923T165556Z
UID:4345-1765152000-1765238399@sonnenhangschule.de
SUMMARY:Klasse 3b: Weihnachtsfeier
DESCRIPTION:
URL:https://sonnenhangschule.de/termin/klasse-3b-weihnachtsfeier-2/
END:VEVENT
BEGIN:VEVENT
DTSTART;VALUE=DATE:20251211
DTEND;VALUE=DATE:20251212
DTSTAMP:20260421T193659
CREATED:20250923T165631Z
LAST-MODIFIED:20250923T165631Z
UID:4347-1765411200-1765497599@sonnenhangschule.de
SUMMARY:Klasse 2b: Plätzchen backen
DESCRIPTION:
URL:https://sonnenhangschule.de/termin/klasse-2b-plaetzchen-backen-2/
END:VEVENT
BEGIN:VEVENT
DTSTART;VALUE=DATE:20251211
DTEND;VALUE=DATE:20251212
DTSTAMP:20260421T193659
CREATED:20250923T165709Z
LAST-MODIFIED:20250923T165709Z
UID:4349-1765411200-1765497599@sonnenhangschule.de
SUMMARY:Klasse 2b: Weihnachtsfeier
DESCRIPTION:
URL:https://sonnenhangschule.de/termin/klasse-2b-weihnachtsfeier-2/
END:VEVENT
BEGIN:VEVENT
DTSTART;VALUE=DATE:20251212
DTEND;VALUE=DATE:20251213
DTSTAMP:20260421T193659
CREATED:20250923T165746Z
LAST-MODIFIED:20250923T165746Z
UID:4351-1765497600-1765583999@sonnenhangschule.de
SUMMARY:Klasse 1a: Plätzchen backen
DESCRIPTION:
URL:https://sonnenhangschule.de/termin/klasse-1a-plaetzchen-backen-2/
END:VEVENT
BEGIN:VEVENT
DTSTART;VALUE=DATE:20251215
DTEND;VALUE=DATE:20251216
DTSTAMP:20260421T193659
CREATED:20250923T184954Z
LAST-MODIFIED:20250923T184954Z
UID:4421-1765756800-1765843199@sonnenhangschule.de
SUMMARY:Klasse 4b: Plätzchen backen
DESCRIPTION:
URL:https://sonnenhangschule.de/termin/klasse-4b-plaetzchen-backen/
END:VEVENT
BEGIN:VEVENT
DTSTART;VALUE=DATE:20251215
DTEND;VALUE=DATE:20251216
DTSTAMP:20260421T193659
CREATED:20250923T185035Z
LAST-MODIFIED:20250923T185035Z
UID:4423-1765756800-1765843199@sonnenhangschule.de
SUMMARY:Klasse 4b: Weihnachtsfeier
DESCRIPTION:
URL:https://sonnenhangschule.de/termin/klasse-4b-weihnachtsfeier/
END:VEVENT
BEGIN:VEVENT
DTSTART;VALUE=DATE:20251215
DTEND;VALUE=DATE:20251217
DTSTAMP:20260421T193659
CREATED:20251007T071533Z
LAST-MODIFIED:20251007T071533Z
UID:4434-1765756800-1765929599@sonnenhangschule.de
SUMMARY:Schulplanetarium
DESCRIPTION:
URL:https://sonnenhangschule.de/termin/schulplanetarium/
END:VEVENT
BEGIN:VEVENT
DTSTART;VALUE=DATE:20251217
DTEND;VALUE=DATE:20251218
DTSTAMP:20260421T193659
CREATED:20250923T165826Z
LAST-MODIFIED:20250923T165826Z
UID:4353-1765929600-1766015999@sonnenhangschule.de
SUMMARY:Klassen 4: Eislaufen auf dem Weihnachtsmarkt
DESCRIPTION:
URL:https://sonnenhangschule.de/termin/klassen-4-eislaufen-auf-dem-weihnachtsmarkt/
END:VEVENT
BEGIN:VEVENT
DTSTART;VALUE=DATE:20251219
DTEND;VALUE=DATE:20251220
DTSTAMP:20260421T193659
CREATED:20250923T165855Z
LAST-MODIFIED:20250923T165855Z
UID:4355-1766102400-1766188799@sonnenhangschule.de
SUMMARY:Weihnachtsfeier
DESCRIPTION:
URL:https://sonnenhangschule.de/termin/weihnachtsfeier-2/
END:VEVENT
BEGIN:VEVENT
DTSTART;VALUE=DATE:20251222
DTEND;VALUE=DATE:20260107
DTSTAMP:20260421T193659
CREATED:20250923T165939Z
LAST-MODIFIED:20250923T165939Z
UID:4357-1766361600-1767743999@sonnenhangschule.de
SUMMARY:Weihnachtsferien in NRW
DESCRIPTION:
URL:https://sonnenhangschule.de/termin/weihnachtsferien-in-nrw-4/
END:VEVENT
END:VCALENDAR