BEGIN:VCALENDAR
VERSION:2.0
PRODID:-//Sonnenhangschule - ECPv6.15.20//NONSGML v1.0//EN
CALSCALE:GREGORIAN
METHOD:PUBLISH
X-ORIGINAL-URL:https://sonnenhangschule.de
X-WR-CALDESC:Veranstaltungen für Sonnenhangschule
REFRESH-INTERVAL;VALUE=DURATION:PT1H
X-Robots-Tag:noindex
X-PUBLISHED-TTL:PT1H
BEGIN:VTIMEZONE
TZID:Europe/Berlin
BEGIN:DAYLIGHT
TZOFFSETFROM:+0100
TZOFFSETTO:+0200
TZNAME:CEST
DTSTART:20250330T010000
END:DAYLIGHT
BEGIN:STANDARD
TZOFFSETFROM:+0200
TZOFFSETTO:+0100
TZNAME:CET
DTSTART:20251026T010000
END:STANDARD
BEGIN:DAYLIGHT
TZOFFSETFROM:+0100
TZOFFSETTO:+0200
TZNAME:CEST
DTSTART:20260329T010000
END:DAYLIGHT
BEGIN:STANDARD
TZOFFSETFROM:+0200
TZOFFSETTO:+0100
TZNAME:CET
DTSTART:20261025T010000
END:STANDARD
BEGIN:DAYLIGHT
TZOFFSETFROM:+0100
TZOFFSETTO:+0200
TZNAME:CEST
DTSTART:20270328T010000
END:DAYLIGHT
BEGIN:STANDARD
TZOFFSETFROM:+0200
TZOFFSETTO:+0100
TZNAME:CET
DTSTART:20271031T010000
END:STANDARD
END:VTIMEZONE
BEGIN:VEVENT
DTSTART;VALUE=DATE:20260702
DTEND;VALUE=DATE:20260703
DTSTAMP:20260421T175933
CREATED:20260312T150831Z
LAST-MODIFIED:20260312T150831Z
UID:4495-1782950400-1783036799@sonnenhangschule.de
SUMMARY:Klassen 1-4\, Besuch der Freilichtbühne Freudenberg
DESCRIPTION:
URL:https://sonnenhangschule.de/termin/klassen-1-4-besuch-der-freilichtbuehne-freudenberg/
END:VEVENT
BEGIN:VEVENT
DTSTART;VALUE=DATE:20260703
DTEND;VALUE=DATE:20260704
DTSTAMP:20260421T175933
CREATED:20250923T172315Z
LAST-MODIFIED:20250923T172315Z
UID:4407-1783036800-1783123199@sonnenhangschule.de
SUMMARY:Klasse 4b: Abschlussfest
DESCRIPTION:
URL:https://sonnenhangschule.de/termin/klasse-4b-abschlussfest/
END:VEVENT
BEGIN:VEVENT
DTSTART;VALUE=DATE:20260708
DTEND;VALUE=DATE:20260709
DTSTAMP:20260421T175933
CREATED:20250923T172409Z
LAST-MODIFIED:20250923T172409Z
UID:4409-1783468800-1783555199@sonnenhangschule.de
SUMMARY:Klassen 4: Autorenlesung Siegerbuch Audimax
DESCRIPTION:
URL:https://sonnenhangschule.de/termin/klassen-4-autorenlesung-siegerbuch-audimax/
END:VEVENT
BEGIN:VEVENT
DTSTART;VALUE=DATE:20260710
DTEND;VALUE=DATE:20260711
DTSTAMP:20260421T175933
CREATED:20250923T172236Z
LAST-MODIFIED:20260312T151002Z
UID:4405-1783641600-1783727999@sonnenhangschule.de
SUMMARY:Klasse 2a: Abschlussfest
DESCRIPTION:
URL:https://sonnenhangschule.de/termin/klasse-2a-abschlussfest/
END:VEVENT
BEGIN:VEVENT
DTSTART;VALUE=DATE:20260715
DTEND;VALUE=DATE:20260718
DTSTAMP:20260421T175933
CREATED:20250923T172452Z
LAST-MODIFIED:20250923T172452Z
UID:4411-1784073600-1784332799@sonnenhangschule.de
SUMMARY:Klassen 1-4: Zeugnisausgabe
DESCRIPTION:
URL:https://sonnenhangschule.de/termin/klassen-1-4-zeugnisausgabe/
END:VEVENT
BEGIN:VEVENT
DTSTART;VALUE=DATE:20260715
DTEND;VALUE=DATE:20260718
DTSTAMP:20260421T175933
CREATED:20260312T150930Z
LAST-MODIFIED:20260312T150930Z
UID:4497-1784073600-1784332799@sonnenhangschule.de
SUMMARY:Zeugnisausgabe an alle Klassen
DESCRIPTION:
URL:https://sonnenhangschule.de/termin/zeugnisausgabe-an-alle-klassen-2/
END:VEVENT
BEGIN:VEVENT
DTSTART;VALUE=DATE:20260717
DTEND;VALUE=DATE:20260718
DTSTAMP:20260421T175933
CREATED:20250923T172525Z
LAST-MODIFIED:20250923T172525Z
UID:4413-1784246400-1784332799@sonnenhangschule.de
SUMMARY:Klassen 4: Entlassfeier
DESCRIPTION:
URL:https://sonnenhangschule.de/termin/klassen-4-entlassfeier-2/
END:VEVENT
BEGIN:VEVENT
DTSTART;VALUE=DATE:20260720
DTEND;VALUE=DATE:20260902
DTSTAMP:20260421T175933
CREATED:20250923T172603Z
LAST-MODIFIED:20250923T172603Z
UID:4415-1784505600-1788307199@sonnenhangschule.de
SUMMARY:Sommerferien NRW
DESCRIPTION:
URL:https://sonnenhangschule.de/termin/sommerferien-nrw-7/
END:VEVENT
END:VCALENDAR